BEGIN:VCALENDAR
VERSION:2.0
PRODID:JMS Hockey
X-PUBLISHED-TTL:P1W
BEGIN:VEVENT
UID:69e7cb3336648
DTSTART:20130530T013000Z
SEQUENCE:0
TRANSP:OPAQUE
DTEND:20130530T030000Z
URL:http://jmshockey.com/games/4934
LOCATION:Minnetonka Ice Arena
SUMMARY:All level Game at Minnetonka Ice Arena
CLASS:PUBLIC
DTSTAMP:20260421T140835Z
END:VEVENT
END:VCALENDAR