BEGIN:VCALENDAR
VERSION:2.0
PRODID:JMS Hockey
X-PUBLISHED-TTL:P1W
BEGIN:VEVENT
UID:69e7d4d942113
DTSTART:20130507T012000Z
SEQUENCE:0
TRANSP:OPAQUE
DTEND:20130507T025000Z
URL:http://jmshockey.com/games/4925
LOCATION:Doug Woog Arena (Wakota)
SUMMARY:Lower Level Game at Doug Woog Arena (Wakota)
CLASS:PUBLIC
DTSTAMP:20260421T144945Z
END:VEVENT
END:VCALENDAR