BEGIN:VCALENDAR
VERSION:2.0
PRODID:JMS Hockey
X-PUBLISHED-TTL:P1W
BEGIN:VEVENT
UID:69e7c3634c0fe
DTSTART:20130502T020000Z
SEQUENCE:0
TRANSP:OPAQUE
DTEND:20130502T033000Z
URL:http://jmshockey.com/games/4924
LOCATION:Doug Woog Arena (Wakota)
SUMMARY:Upper Level Game at Doug Woog Arena (Wakota)
CLASS:PUBLIC
DTSTAMP:20260421T133515Z
END:VEVENT
END:VCALENDAR