BEGIN:VCALENDAR
VERSION:2.0
PRODID:JMS Hockey
X-PUBLISHED-TTL:P1W
BEGIN:VEVENT
UID:69e79a2f79be3
DTSTART:20130411T012000Z
SEQUENCE:0
TRANSP:OPAQUE
DTEND:20130411T025000Z
URL:http://jmshockey.com/games/4918
LOCATION:Doug Woog Arena (Wakota)
SUMMARY:Upper Level Game at Doug Woog Arena (Wakota)
CLASS:PUBLIC
DTSTAMP:20260421T103927Z
END:VEVENT
END:VCALENDAR