BEGIN:VCALENDAR
VERSION:2.0
PRODID:JMS Hockey
X-PUBLISHED-TTL:P1W
BEGIN:VEVENT
UID:69e7d4df86225
DTSTART:20130501T015000Z
SEQUENCE:0
TRANSP:OPAQUE
DTEND:20130501T032000Z
URL:http://jmshockey.com/games/4911
LOCATION:Burnsville Arena
SUMMARY:Lower Level Game at Burnsville Arena
CLASS:PUBLIC
DTSTAMP:20260421T144951Z
END:VEVENT
END:VCALENDAR