BEGIN:VCALENDAR
VERSION:2.0
PRODID:JMS Hockey
X-PUBLISHED-TTL:P1W
BEGIN:VEVENT
UID:69e7a30fcd456
DTSTART:20130504T020000Z
SEQUENCE:0
TRANSP:OPAQUE
DTEND:20130504T033000Z
URL:http://jmshockey.com/games/4894
LOCATION:Eden Prairie Comm Ctr
SUMMARY:Lower Level Game at Eden Prairie Comm Ctr
CLASS:PUBLIC
DTSTAMP:20260421T111719Z
END:VEVENT
END:VCALENDAR