BEGIN:VCALENDAR
VERSION:2.0
PRODID:JMS Hockey
X-PUBLISHED-TTL:P1W
BEGIN:VEVENT
UID:69e79f6db1ec5
DTSTART:20130424T020000Z
SEQUENCE:0
TRANSP:OPAQUE
DTEND:20130424T033000Z
URL:http://jmshockey.com/games/4891
LOCATION:Eden Prairie Comm Ctr
SUMMARY:Level 3 Game at Eden Prairie Comm Ctr
CLASS:PUBLIC
DTSTAMP:20260421T110149Z
END:VEVENT
END:VCALENDAR