BEGIN:VCALENDAR
VERSION:2.0
PRODID:JMS Hockey
X-PUBLISHED-TTL:P1W
BEGIN:VEVENT
UID:69e7cac0b8181
DTSTART:20130406T010000Z
SEQUENCE:0
TRANSP:OPAQUE
DTEND:20130406T023000Z
URL:http://jmshockey.com/games/4886
LOCATION:Eden Prairie Comm Ctr
SUMMARY:Lower Level Game at Eden Prairie Comm Ctr
CLASS:PUBLIC
DTSTAMP:20260421T140640Z
END:VEVENT
END:VCALENDAR