BEGIN:VCALENDAR
VERSION:2.0
PRODID:JMS Hockey
X-PUBLISHED-TTL:P1W
BEGIN:VEVENT
UID:69e7ad7ccb8b2
DTSTART:20130403T010000Z
SEQUENCE:0
TRANSP:OPAQUE
DTEND:20130403T023000Z
URL:http://jmshockey.com/games/4885
LOCATION:Eden Prairie Comm Ctr
SUMMARY:Level 3 Game at Eden Prairie Comm Ctr
CLASS:PUBLIC
DTSTAMP:20260421T120148Z
END:VEVENT
END:VCALENDAR