BEGIN:VCALENDAR
VERSION:2.0
PRODID:JMS Hockey
X-PUBLISHED-TTL:P1W
BEGIN:VEVENT
UID:69e7b58374a13
DTSTART:20130313T013000Z
SEQUENCE:0
TRANSP:OPAQUE
DTEND:20130313T030000Z
URL:http://jmshockey.com/games/4877
LOCATION:Polar Arena
SUMMARY:Elite Game at Polar Arena
CLASS:PUBLIC
DTSTAMP:20260421T123603Z
END:VEVENT
END:VCALENDAR