BEGIN:VCALENDAR
VERSION:2.0
PRODID:JMS Hockey
X-PUBLISHED-TTL:P1W
BEGIN:VEVENT
UID:69e7c10c7c928
DTSTART:20130312T022000Z
SEQUENCE:0
TRANSP:OPAQUE
DTEND:20130312T035000Z
URL:http://jmshockey.com/games/4875
LOCATION:Doug Woog Arena (Wakota)
SUMMARY:Lower Level Game at Doug Woog Arena (Wakota)
CLASS:PUBLIC
DTSTAMP:20260421T132516Z
END:VEVENT
END:VCALENDAR