BEGIN:VCALENDAR
VERSION:2.0
PRODID:JMS Hockey
X-PUBLISHED-TTL:P1W
BEGIN:VEVENT
UID:69e7c316de6a6
DTSTART:20130309T022000Z
SEQUENCE:0
TRANSP:OPAQUE
DTEND:20130309T035000Z
URL:http://jmshockey.com/games/4874
LOCATION:Doug Woog Arena (Wakota)
SUMMARY:Level 2 Game at Doug Woog Arena (Wakota)
CLASS:PUBLIC
DTSTAMP:20260421T133358Z
END:VEVENT
END:VCALENDAR