BEGIN:VCALENDAR
VERSION:2.0
PRODID:JMS Hockey
X-PUBLISHED-TTL:P1W
BEGIN:VEVENT
UID:69e7c344eac9b
DTSTART:20130306T030000Z
SEQUENCE:0
TRANSP:OPAQUE
DTEND:20130306T043000Z
URL:http://jmshockey.com/games/4871
LOCATION:Tartan Arena
SUMMARY:Upper Level Game at Tartan Arena
CLASS:PUBLIC
DTSTAMP:20260421T133444Z
END:VEVENT
END:VCALENDAR