BEGIN:VCALENDAR
VERSION:2.0
PRODID:JMS Hockey
X-PUBLISHED-TTL:P1W
BEGIN:VEVENT
UID:69e7d23bbf92b
DTSTART:20130413T003000Z
SEQUENCE:0
TRANSP:OPAQUE
DTEND:20130413T020000Z
URL:http://jmshockey.com/games/4865
LOCATION:St Louis Park Rec Center
SUMMARY:Upper Level Game at St Louis Park Rec Center
CLASS:PUBLIC
DTSTAMP:20260421T143835Z
END:VEVENT
END:VCALENDAR