BEGIN:VCALENDAR
VERSION:2.0
PRODID:JMS Hockey
X-PUBLISHED-TTL:P1W
BEGIN:VEVENT
UID:69e7d61f96193
DTSTART:20130410T011500Z
SEQUENCE:0
TRANSP:OPAQUE
DTEND:20130410T024500Z
URL:http://jmshockey.com/games/4864
LOCATION:St Louis Park Rec Center
SUMMARY:Level 4 Game at St Louis Park Rec Center
CLASS:PUBLIC
DTSTAMP:20260421T145511Z
END:VEVENT
END:VCALENDAR