BEGIN:VCALENDAR
VERSION:2.0
PRODID:JMS Hockey
X-PUBLISHED-TTL:P1W
BEGIN:VEVENT
UID:69e7d4830b398
DTSTART:20130406T003000Z
SEQUENCE:0
TRANSP:OPAQUE
DTEND:20130406T020000Z
URL:http://jmshockey.com/games/4863
LOCATION:St Louis Park Rec Center
SUMMARY:All level Game at St Louis Park Rec Center
CLASS:PUBLIC
DTSTAMP:20260421T144819Z
END:VEVENT
END:VCALENDAR