BEGIN:VCALENDAR
VERSION:2.0
PRODID:JMS Hockey
X-PUBLISHED-TTL:P1W
BEGIN:VEVENT
UID:69e7cac891ee1
DTSTART:20130219T040000Z
SEQUENCE:0
TRANSP:OPAQUE
DTEND:20130219T053000Z
URL:http://jmshockey.com/games/4847
LOCATION:Vadnais Heights Sports Complex
SUMMARY:All level Game at Vadnais Heights Sports Complex
CLASS:PUBLIC
DTSTAMP:20260421T140648Z
END:VEVENT
END:VCALENDAR