BEGIN:VCALENDAR
VERSION:2.0
PRODID:JMS Hockey
X-PUBLISHED-TTL:P1W
BEGIN:VEVENT
UID:69e7ad7a7fab0
DTSTART:20130205T040000Z
SEQUENCE:0
TRANSP:OPAQUE
DTEND:20130205T053000Z
URL:http://jmshockey.com/games/4845
LOCATION:Vadnais Heights Sports Complex
SUMMARY:All level Game at Vadnais Heights Sports Complex
CLASS:PUBLIC
DTSTAMP:20260421T120146Z
END:VEVENT
END:VCALENDAR