BEGIN:VCALENDAR
VERSION:2.0
PRODID:JMS Hockey
X-PUBLISHED-TTL:P1W
BEGIN:VEVENT
UID:69e772fedef5e
DTSTART:20130216T034000Z
SEQUENCE:0
TRANSP:OPAQUE
DTEND:20130216T051000Z
URL:http://jmshockey.com/games/4836
LOCATION:Doug Woog Arena (Wakota)
SUMMARY:Level 2 Game at Doug Woog Arena (Wakota)
CLASS:PUBLIC
DTSTAMP:20260421T075214Z
END:VEVENT
END:VCALENDAR