BEGIN:VCALENDAR
VERSION:2.0
PRODID:JMS Hockey
X-PUBLISHED-TTL:P1W
BEGIN:VEVENT
UID:69e7b2f0dbb07
DTSTART:20090421T021500Z
SEQUENCE:0
TRANSP:OPAQUE
DTEND:20090421T034500Z
URL:http://jmshockey.com/games/483
LOCATION:Bloomington Ice Gardens
SUMMARY:Level 1 Game at Bloomington Ice Gardens
CLASS:PUBLIC
DTSTAMP:20260421T122504Z
END:VEVENT
END:VCALENDAR