BEGIN:VCALENDAR
VERSION:2.0
PRODID:JMS Hockey
X-PUBLISHED-TTL:P1W
BEGIN:VEVENT
UID:69e7730fc9975
DTSTART:20130126T033000Z
SEQUENCE:0
TRANSP:OPAQUE
DTEND:20130126T050000Z
URL:http://jmshockey.com/games/4828
LOCATION:Doug Woog Arena (Wakota)
SUMMARY:Level 2 Game at Doug Woog Arena (Wakota)
CLASS:PUBLIC
DTSTAMP:20260421T075231Z
END:VEVENT
END:VCALENDAR