BEGIN:VCALENDAR
VERSION:2.0
PRODID:JMS Hockey
X-PUBLISHED-TTL:P1W
BEGIN:VEVENT
UID:69e7c4f0b7832
DTSTART:20130122T032000Z
SEQUENCE:0
TRANSP:OPAQUE
DTEND:20130122T045000Z
URL:http://jmshockey.com/games/4826
LOCATION:Doug Woog Arena (Wakota)
SUMMARY:Lower Level Game at Doug Woog Arena (Wakota)
CLASS:PUBLIC
DTSTAMP:20260421T134152Z
END:VEVENT
END:VCALENDAR