BEGIN:VCALENDAR
VERSION:2.0
PRODID:JMS Hockey
X-PUBLISHED-TTL:P1W
BEGIN:VEVENT
UID:69e7ad7942e24
DTSTART:20130108T033000Z
SEQUENCE:0
TRANSP:OPAQUE
DTEND:20130108T050000Z
URL:http://jmshockey.com/games/4820
LOCATION:Doug Woog Arena (Wakota)
SUMMARY:Lower Level Game at Doug Woog Arena (Wakota)
CLASS:PUBLIC
DTSTAMP:20260421T120145Z
END:VEVENT
END:VCALENDAR