BEGIN:VCALENDAR
VERSION:2.0
PRODID:JMS Hockey
X-PUBLISHED-TTL:P1W
BEGIN:VEVENT
UID:69e7bf9753ce2
DTSTART:20130315T024000Z
SEQUENCE:0
TRANSP:OPAQUE
DTEND:20130315T041000Z
URL:http://jmshockey.com/games/4815
LOCATION:St Thomas Ice Arena
SUMMARY:All level Game at St Thomas Ice Arena
CLASS:PUBLIC
DTSTAMP:20260421T131903Z
END:VEVENT
END:VCALENDAR