BEGIN:VCALENDAR
VERSION:2.0
PRODID:JMS Hockey
X-PUBLISHED-TTL:P1W
BEGIN:VEVENT
UID:69e7f83c084ca
DTSTART:20090418T033000Z
SEQUENCE:0
TRANSP:OPAQUE
DTEND:20090418T050000Z
URL:http://jmshockey.com/games/481
LOCATION:St Louis Park Rec Center
SUMMARY:Level 3 Game at St Louis Park Rec Center
CLASS:PUBLIC
DTSTAMP:20260421T172044Z
END:VEVENT
END:VCALENDAR