BEGIN:VCALENDAR
VERSION:2.0
PRODID:JMS Hockey
X-PUBLISHED-TTL:P1W
BEGIN:VEVENT
UID:69e7ce8f98d3a
DTSTART:20130219T033000Z
SEQUENCE:0
TRANSP:OPAQUE
DTEND:20130219T050000Z
URL:http://jmshockey.com/games/4808
LOCATION:St Thomas Ice Arena
SUMMARY:Elite Game at St Thomas Ice Arena
CLASS:PUBLIC
DTSTAMP:20260421T142255Z
END:VEVENT
END:VCALENDAR