BEGIN:VCALENDAR
VERSION:2.0
PRODID:JMS Hockey
X-PUBLISHED-TTL:P1W
BEGIN:VEVENT
UID:69e7b3153df13
DTSTART:20130212T033000Z
SEQUENCE:0
TRANSP:OPAQUE
DTEND:20130212T050000Z
URL:http://jmshockey.com/games/4807
LOCATION:St Thomas Ice Arena
SUMMARY:Elite Game at St Thomas Ice Arena
CLASS:PUBLIC
DTSTAMP:20260421T122541Z
END:VEVENT
END:VCALENDAR