BEGIN:VCALENDAR
VERSION:2.0
PRODID:JMS Hockey
X-PUBLISHED-TTL:P1W
BEGIN:VEVENT
UID:69e7b9a01dca9
DTSTART:20130205T035000Z
SEQUENCE:0
TRANSP:OPAQUE
DTEND:20130205T052000Z
URL:http://jmshockey.com/games/4805
LOCATION:St Thomas Ice Arena
SUMMARY:Elite Game at St Thomas Ice Arena
CLASS:PUBLIC
DTSTAMP:20260421T125336Z
END:VEVENT
END:VCALENDAR