BEGIN:VCALENDAR
VERSION:2.0
PRODID:JMS Hockey
X-PUBLISHED-TTL:P1W
BEGIN:VEVENT
UID:69e7b58359f81
DTSTART:20130122T032000Z
SEQUENCE:0
TRANSP:OPAQUE
DTEND:20130122T045000Z
URL:http://jmshockey.com/games/4801
LOCATION:St Thomas Ice Arena
SUMMARY:Elite Game at St Thomas Ice Arena
CLASS:PUBLIC
DTSTAMP:20260421T123603Z
END:VEVENT
END:VCALENDAR