BEGIN:VCALENDAR
VERSION:2.0
PRODID:JMS Hockey
X-PUBLISHED-TTL:P1W
BEGIN:VEVENT
UID:69e7d4c0e828c
DTSTART:20130216T031500Z
SEQUENCE:0
TRANSP:OPAQUE
DTEND:20130216T044500Z
URL:http://jmshockey.com/games/4786
LOCATION:St Louis Park Rec Center
SUMMARY:Level 1 Game at St Louis Park Rec Center
CLASS:PUBLIC
DTSTAMP:20260421T144920Z
END:VEVENT
END:VCALENDAR