BEGIN:VCALENDAR
VERSION:2.0
PRODID:JMS Hockey
X-PUBLISHED-TTL:P1W
BEGIN:VEVENT
UID:69e7d4c59cf6c
DTSTART:20130311T013000Z
SEQUENCE:0
TRANSP:OPAQUE
DTEND:20130311T030000Z
URL:http://jmshockey.com/games/4765
LOCATION:Parade Ice Gardens
SUMMARY:All level Game at Parade Ice Gardens
CLASS:PUBLIC
DTSTAMP:20260421T144925Z
END:VEVENT
END:VCALENDAR