BEGIN:VCALENDAR
VERSION:2.0
PRODID:JMS Hockey
X-PUBLISHED-TTL:P1W
BEGIN:VEVENT
UID:69e7cb32c9923
DTSTART:20130216T034500Z
SEQUENCE:0
TRANSP:OPAQUE
DTEND:20130216T051500Z
URL:http://jmshockey.com/games/4759
LOCATION:Parade Ice Gardens
SUMMARY:Upper Level Game at Parade Ice Gardens
CLASS:PUBLIC
DTSTAMP:20260421T140834Z
END:VEVENT
END:VCALENDAR