BEGIN:VCALENDAR
VERSION:2.0
PRODID:JMS Hockey
X-PUBLISHED-TTL:P1W
BEGIN:VEVENT
UID:69e7c91a631ac
DTSTART:20130128T034500Z
SEQUENCE:0
TRANSP:OPAQUE
DTEND:20130128T051500Z
URL:http://jmshockey.com/games/4756
LOCATION:Parade Ice Gardens
SUMMARY:All level Game at Parade Ice Gardens
CLASS:PUBLIC
DTSTAMP:20260421T135938Z
END:VEVENT
END:VCALENDAR