BEGIN:VCALENDAR
VERSION:2.0
PRODID:JMS Hockey
X-PUBLISHED-TTL:P1W
BEGIN:VEVENT
UID:69e9e7bfe0ece
DTSTART:20130208T021500Z
SEQUENCE:0
TRANSP:OPAQUE
DTEND:20130208T031500Z
URL:http://jmshockey.com/games/4748
LOCATION:Parade Ice Gardens
SUMMARY:Lower Level Game at Parade Ice Gardens
CLASS:PUBLIC
DTSTAMP:20260423T043455Z
END:VEVENT
END:VCALENDAR