BEGIN:VCALENDAR
VERSION:2.0
PRODID:JMS Hockey
X-PUBLISHED-TTL:P1W
BEGIN:VEVENT
UID:69e7c382288f5
DTSTART:20130110T040000Z
SEQUENCE:0
TRANSP:OPAQUE
DTEND:20130110T053000Z
URL:http://jmshockey.com/games/4738
LOCATION:Minnehaha Academy
SUMMARY:All level Game at Minnehaha Academy
CLASS:PUBLIC
DTSTAMP:20260421T133546Z
END:VEVENT
END:VCALENDAR