BEGIN:VCALENDAR
VERSION:2.0
PRODID:JMS Hockey
X-PUBLISHED-TTL:P1W
BEGIN:VEVENT
UID:69e7dda3a4666
DTSTART:20130306T024500Z
SEQUENCE:0
TRANSP:OPAQUE
DTEND:20130306T041500Z
URL:http://jmshockey.com/games/4730
LOCATION:Eden Prairie Comm Ctr
SUMMARY:Level 3 Game at Eden Prairie Comm Ctr
CLASS:PUBLIC
DTSTAMP:20260421T152715Z
END:VEVENT
END:VCALENDAR