BEGIN:VCALENDAR
VERSION:2.0
PRODID:JMS Hockey
X-PUBLISHED-TTL:P1W
BEGIN:VEVENT
UID:69e7d475b3e18
DTSTART:20130116T031500Z
SEQUENCE:0
TRANSP:OPAQUE
DTEND:20130116T044500Z
URL:http://jmshockey.com/games/4716
LOCATION:Eden Prairie Comm Ctr
SUMMARY:Level 3 Game at Eden Prairie Comm Ctr
CLASS:PUBLIC
DTSTAMP:20260421T144805Z
END:VEVENT
END:VCALENDAR