BEGIN:VCALENDAR
VERSION:2.0
PRODID:JMS Hockey
X-PUBLISHED-TTL:P1W
BEGIN:VEVENT
UID:69e7e98a07b2e
DTSTART:20130112T030000Z
SEQUENCE:0
TRANSP:OPAQUE
DTEND:20130112T043000Z
URL:http://jmshockey.com/games/4714
LOCATION:Eden Prairie Comm Ctr
SUMMARY:Lower Level Game at Eden Prairie Comm Ctr
CLASS:PUBLIC
DTSTAMP:20260421T161802Z
END:VEVENT
END:VCALENDAR