BEGIN:VCALENDAR
VERSION:2.0
PRODID:JMS Hockey
X-PUBLISHED-TTL:P1W
BEGIN:VEVENT
UID:69e79a055432c
DTSTART:20130214T031500Z
SEQUENCE:0
TRANSP:OPAQUE
DTEND:20130214T044500Z
URL:http://jmshockey.com/games/4703
LOCATION:Bloomington Ice Gardens
SUMMARY:Level 2 Game at Bloomington Ice Gardens
CLASS:PUBLIC
DTSTAMP:20260421T103845Z
END:VEVENT
END:VCALENDAR