BEGIN:VCALENDAR
VERSION:2.0
PRODID:JMS Hockey
X-PUBLISHED-TTL:P1W
BEGIN:VEVENT
UID:69e7d53ece835
DTSTART:20130308T033000Z
SEQUENCE:0
TRANSP:OPAQUE
DTEND:20130308T050000Z
URL:http://jmshockey.com/games/4693
LOCATION:Apple Valley Sports Arena
SUMMARY:Upper Level Game at Apple Valley Sports Arena
CLASS:PUBLIC
DTSTAMP:20260421T145126Z
END:VEVENT
END:VCALENDAR