BEGIN:VCALENDAR
VERSION:2.0
PRODID:JMS Hockey
X-PUBLISHED-TTL:P1W
BEGIN:VEVENT
UID:69e79fa830985
DTSTART:20130103T031500Z
SEQUENCE:0
TRANSP:OPAQUE
DTEND:20130103T044500Z
URL:http://jmshockey.com/games/4666
LOCATION:Bloomington Ice Gardens
SUMMARY:Level 3 Game at Bloomington Ice Gardens
CLASS:PUBLIC
DTSTAMP:20260421T110248Z
END:VEVENT
END:VCALENDAR