BEGIN:VCALENDAR
VERSION:2.0
PRODID:JMS Hockey
X-PUBLISHED-TTL:P1W
BEGIN:VEVENT
UID:69e7b3139da4f
DTSTART:20121122T040000Z
SEQUENCE:0
TRANSP:OPAQUE
DTEND:20121122T053000Z
URL:http://jmshockey.com/games/4636
LOCATION:Minnehaha Academy
SUMMARY:All level Game at Minnehaha Academy
CLASS:PUBLIC
DTSTAMP:20260421T122539Z
END:VEVENT
END:VCALENDAR