BEGIN:VCALENDAR
VERSION:2.0
PRODID:JMS Hockey
X-PUBLISHED-TTL:P1W
BEGIN:VEVENT
UID:69e7b12da65eb
DTSTART:20121108T040000Z
SEQUENCE:0
TRANSP:OPAQUE
DTEND:20121108T053000Z
URL:http://jmshockey.com/games/4634
LOCATION:Minnehaha Academy
SUMMARY:All level Game at Minnehaha Academy
CLASS:PUBLIC
DTSTAMP:20260421T121733Z
END:VEVENT
END:VCALENDAR