BEGIN:VCALENDAR
VERSION:2.0
PRODID:JMS Hockey
X-PUBLISHED-TTL:P1W
BEGIN:VEVENT
UID:69e7adb1c2bb9
DTSTART:20121211T040000Z
SEQUENCE:0
TRANSP:OPAQUE
DTEND:20121211T053000Z
URL:http://jmshockey.com/games/4631
LOCATION:Vadnais Heights Sports Complex
SUMMARY:Lower Level Game at Vadnais Heights Sports Complex
CLASS:PUBLIC
DTSTAMP:20260421T120241Z
END:VEVENT
END:VCALENDAR