BEGIN:VCALENDAR
VERSION:2.0
PRODID:JMS Hockey
X-PUBLISHED-TTL:P1W
BEGIN:VEVENT
UID:69e7b5a162ef1
DTSTART:20121228T031500Z
SEQUENCE:0
TRANSP:OPAQUE
DTEND:20121228T044500Z
URL:http://jmshockey.com/games/4623
LOCATION:New Hope Ice Arena
SUMMARY:Elite Game at New Hope Ice Arena
CLASS:PUBLIC
DTSTAMP:20260421T123633Z
END:VEVENT
END:VCALENDAR