BEGIN:VCALENDAR
VERSION:2.0
PRODID:JMS Hockey
X-PUBLISHED-TTL:P1W
BEGIN:VEVENT
UID:69e7a35955084
DTSTART:20121207T031500Z
SEQUENCE:0
TRANSP:OPAQUE
DTEND:20121207T044500Z
URL:http://jmshockey.com/games/4620
LOCATION:New Hope Ice Arena
SUMMARY:Elite Game at New Hope Ice Arena
CLASS:PUBLIC
DTSTAMP:20260421T111833Z
END:VEVENT
END:VCALENDAR