BEGIN:VCALENDAR
VERSION:2.0
PRODID:JMS Hockey
X-PUBLISHED-TTL:P1W
BEGIN:VEVENT
UID:69e7bd89ac4ad
DTSTART:20121205T034500Z
SEQUENCE:0
TRANSP:OPAQUE
DTEND:20121205T051500Z
URL:http://jmshockey.com/games/4619
LOCATION:New Hope Ice Arena
SUMMARY:Lower Level Game at New Hope Ice Arena
CLASS:PUBLIC
DTSTAMP:20260421T131017Z
END:VEVENT
END:VCALENDAR