BEGIN:VCALENDAR
VERSION:2.0
PRODID:JMS Hockey
X-PUBLISHED-TTL:P1W
BEGIN:VEVENT
UID:69e7c36a58587
DTSTART:20121121T033000Z
SEQUENCE:0
TRANSP:OPAQUE
DTEND:20121121T050000Z
URL:http://jmshockey.com/games/4617
LOCATION:New Hope Ice Arena
SUMMARY:Lower Level Game at New Hope Ice Arena
CLASS:PUBLIC
DTSTAMP:20260421T133522Z
END:VEVENT
END:VCALENDAR