BEGIN:VCALENDAR
VERSION:2.0
PRODID:JMS Hockey
X-PUBLISHED-TTL:P1W
BEGIN:VEVENT
UID:69e7a79093fb5
DTSTART:20121026T023000Z
SEQUENCE:0
TRANSP:OPAQUE
DTEND:20121026T040000Z
URL:http://jmshockey.com/games/4612
LOCATION:New Hope Ice Arena
SUMMARY:Elite Game at New Hope Ice Arena
CLASS:PUBLIC
DTSTAMP:20260421T113632Z
END:VEVENT
END:VCALENDAR