BEGIN:VCALENDAR
VERSION:2.0
PRODID:JMS Hockey
X-PUBLISHED-TTL:P1W
BEGIN:VEVENT
UID:69e81389dc067
DTSTART:20090411T021500Z
SEQUENCE:0
TRANSP:OPAQUE
DTEND:20090411T034500Z
URL:http://jmshockey.com/games/461
LOCATION:Richfield Ice Arena
SUMMARY:Level 4 Game at Richfield Ice Arena
CLASS:PUBLIC
DTSTAMP:20260421T191713Z
END:VEVENT
END:VCALENDAR